BEGIN:VCALENDAR
VERSION:2.0
PRODID:-//evki-5mal.de//NONSGML kigkonsult.se iCalcreator 2.41.92//
CALSCALE:GREGORIAN
METHOD:PUBLISH
UID:31623930-3336-4938-b363-373864666239
X-WR-TIMEZONE:Europe/Berlin
X-LIC-LOCATION:Europe/Berlin
BEGIN:VTIMEZONE
TZID:Europe/Berlin
BEGIN:DAYLIGHT
TZOFFSETFROM:+0100
TZOFFSETTO:+0200
TZNAME:CEST
DTSTART:19700329T020000
RRULE:FREQ=YEARLY;BYDAY=-1SU;BYMONTH=3
END:DAYLIGHT
BEGIN:STANDARD
TZOFFSETFROM:+0200
TZOFFSETTO:+0100
TZNAME:CET
DTSTART:19701025T030000
RRULE:FREQ=YEARLY;BYDAY=-1SU;BYMONTH=10
END:STANDARD
END:VTIMEZONE
BEGIN:VEVENT
UID:34303137-3235-4339-b233-303765313666
DTSTAMP:20260421T124427Z
DESCRIPTION:BEGEGNUNGSCAFÉ IN OTTERSWEIER LÄDT ZUM AUSTAUSCH ÜBER ERINNERUN
 GEN EIN\n \n Veranstaltungsort:\n Kirchengemeindehaus Hephata\n Mooslandst
 raße 1\n 77833 Ottersweier
DTSTART;TZID=Europe/Berlin:20260423T143000
DTEND;TZID=Europe/Berlin:20260423T153000
LOCATION:Kirchengemeindehaus Hephata\n - Mooslandstraße 1\n - 77833 Ottersw
 eier
SUMMARY:ZWISCHEN FREUDE UND LAST:
X-ALT-DESC;FMTTYPE=text/html:BEGEGNUNGSCAFÉ IN OTTERSWEIER LÄDT ZUM AUSTAUS
 CH ÜBER ERINNERUNGEN EIN<br /><br />Veranstaltungsort: <br />Kirchengemein
 dehaus Hephata<br />Mooslandstraße 1<br />77833 Ottersweier
END:VEVENT
END:VCALENDAR
