BEGIN:VCALENDAR
VERSION:2.0
PRODID:-//evki-5mal.de//NONSGML kigkonsult.se iCalcreator 2.41.92//
CALSCALE:GREGORIAN
METHOD:PUBLISH
UID:34306336-6635-4666-a666-353833396662
X-WR-TIMEZONE:Europe/Berlin
X-LIC-LOCATION:Europe/Berlin
BEGIN:VTIMEZONE
TZID:Europe/Berlin
BEGIN:DAYLIGHT
TZOFFSETFROM:+0100
TZOFFSETTO:+0200
TZNAME:CEST
DTSTART:19700329T020000
RRULE:FREQ=YEARLY;BYDAY=-1SU;BYMONTH=3
END:DAYLIGHT
BEGIN:STANDARD
TZOFFSETFROM:+0200
TZOFFSETTO:+0100
TZNAME:CET
DTSTART:19701025T030000
RRULE:FREQ=YEARLY;BYDAY=-1SU;BYMONTH=10
END:STANDARD
END:VTIMEZONE
BEGIN:VEVENT
UID:62393861-6234-4665-a237-663436303862
DTSTAMP:20260421T203727Z
DESCRIPTION:Veranstaltungsort:\n Kapelle 'Zum Guten Hirten'\n Schwarzwaldho
 chstraße\n 77815 Bühl\n \n Veranstalter:\n Ev. Kirchengemeinde Bühlertal\n
  Hindenburgstr. 23\n 77830 Bühlertal\n Telefon: 0 72 23 / 7 24 21\n http:/
 /www.evki-5mal.de
DTSTART;TZID=Europe/Berlin:20260514T110000
DTEND;TZID=Europe/Berlin:20260514T120000
LOCATION:Kapelle 'Zum Guten Hirten'\n - Schwarzwaldhochstraße\n - 77815 Büh
 l
SUMMARY:Gemeinsamer Open-Air Gottesdienst im Kooperationsraum Süd
X-ALT-DESC;FMTTYPE=text/html:Veranstaltungsort: <br />Kapelle 'Zum Guten Hi
 rten'<br />Schwarzwaldhochstraße<br />77815 Bühl<br /><br />Veranstalter: 
 <br />Ev. Kirchengemeinde Bühlertal<br />Hindenburgstr. 23<br />77830 Bühl
 ertal<br />Telefon: 0 72 23 / 7 24 21<br />http://www.evki-5mal.de
END:VEVENT
END:VCALENDAR
