BEGIN:VCALENDAR
VERSION:2.0
PRODID:-//evki-5mal.de//NONSGML kigkonsult.se iCalcreator 2.41.92//
CALSCALE:GREGORIAN
METHOD:PUBLISH
UID:63333137-6462-4161-b461-396261306437
X-WR-TIMEZONE:Europe/Berlin
X-LIC-LOCATION:Europe/Berlin
BEGIN:VTIMEZONE
TZID:Europe/Berlin
BEGIN:DAYLIGHT
TZOFFSETFROM:+0100
TZOFFSETTO:+0200
TZNAME:CEST
DTSTART:19700329T020000
RRULE:FREQ=YEARLY;BYDAY=-1SU;BYMONTH=3
END:DAYLIGHT
BEGIN:STANDARD
TZOFFSETFROM:+0200
TZOFFSETTO:+0100
TZNAME:CET
DTSTART:19701025T030000
RRULE:FREQ=YEARLY;BYDAY=-1SU;BYMONTH=10
END:STANDARD
END:VTIMEZONE
BEGIN:VEVENT
UID:62363365-6136-4334-b234-396462666666
DTSTAMP:20260421T233450Z
DESCRIPTION:Dekan Christian Link gestaltet einen besonderen Gottesdienst fü
 r die Jugendlichen und deren Familienmitglieder.\n \n Veranstaltungsort:\n
  Christuskirche Bühlertal\n Hindenburgstraße 20\n 77830 Bühlertal\n \n Ver
 anstalter:\n Ev. Kirchengemeinde Bühlertal\n Hindenburgstr. 23\n 77830 Büh
 lertal\n Telefon: 0 72 23 / 7 24 21\n http://www.evki-5mal.de
DTSTART;TZID=Europe/Berlin:20260502T180000
DTEND;TZID=Europe/Berlin:20260502T190000
LOCATION:Christuskirche Bühlertal\n - Hindenburgstraße 20\n - 77830 Bühlert
 al
SUMMARY:Auf dem Weg zur Konfirmation: Gemeinsames Abendmahl der Konfirmand*
 innen in der Christuskirche Bühlertal
X-ALT-DESC;FMTTYPE=text/html:Dekan Christian Link gestaltet einen besondere
 n Gottesdienst für die Jugendlichen und deren Familienmitglieder.<br /><br
  />Veranstaltungsort: <br />Christuskirche Bühlertal<br />Hindenburgstraße
  20<br />77830 Bühlertal<br /><br />Veranstalter: <br />Ev. Kirchengemeind
 e Bühlertal<br />Hindenburgstr. 23<br />77830 Bühlertal<br />Telefon: 0 72
  23 / 7 24 21<br />http://www.evki-5mal.de
END:VEVENT
END:VCALENDAR
