BEGIN:VCALENDAR
VERSION:2.0
PRODID:-//evki-5mal.de//NONSGML kigkonsult.se iCalcreator 2.41.92//
CALSCALE:GREGORIAN
METHOD:PUBLISH
UID:33396132-3135-4137-a533-646136613530
X-WR-TIMEZONE:Europe/Berlin
X-LIC-LOCATION:Europe/Berlin
BEGIN:VTIMEZONE
TZID:Europe/Berlin
BEGIN:DAYLIGHT
TZOFFSETFROM:+0100
TZOFFSETTO:+0200
TZNAME:CEST
DTSTART:19700329T020000
RRULE:FREQ=YEARLY;BYDAY=-1SU;BYMONTH=3
END:DAYLIGHT
BEGIN:STANDARD
TZOFFSETFROM:+0200
TZOFFSETTO:+0100
TZNAME:CET
DTSTART:19701025T030000
RRULE:FREQ=YEARLY;BYDAY=-1SU;BYMONTH=10
END:STANDARD
END:VTIMEZONE
BEGIN:VEVENT
UID:34343632-3236-4336-b762-393130363131
DTSTAMP:20260421T215349Z
DESCRIPTION:Ein besonderer Vormittag mit Taufe in Bühlertal unter der Leitu
 ng von Dekan Christian Link.\n \n Veranstaltungsort:\n Christuskirche Bühl
 ertal\n Hindenburgstraße 20\n 77830 Bühlertal\n \n Veranstalter:\n Ev. Kir
 chengemeinde Bühlertal\n Hindenburgstr. 23\n 77830 Bühlertal\n Telefon: 0 
 72 23 / 7 24 21\n http://www.evki-5mal.de
DTSTART;TZID=Europe/Berlin:20260426T093000
DTEND;TZID=Europe/Berlin:20260426T103000
LOCATION:Christuskirche Bühlertal\n - Hindenburgstraße 20\n - 77830 Bühlert
 al
SUMMARY:Konfirmanden laden zum Gesprächsgottesdienst in die Christuskirche 
 ein:
X-ALT-DESC;FMTTYPE=text/html:Ein besonderer Vormittag mit Taufe in Bühlerta
 l unter der Leitung von Dekan Christian Link.<br /><br />Veranstaltungsort
 : <br />Christuskirche Bühlertal<br />Hindenburgstraße 20<br />77830 Bühle
 rtal<br /><br />Veranstalter: <br />Ev. Kirchengemeinde Bühlertal<br />Hin
 denburgstr. 23<br />77830 Bühlertal<br />Telefon: 0 72 23 / 7 24 21<br />h
 ttp://www.evki-5mal.de
END:VEVENT
END:VCALENDAR
