BEGIN:VCALENDAR
VERSION:2.0
PRODID:-//evki-5mal.de//NONSGML kigkonsult.se iCalcreator 2.41.92//
CALSCALE:GREGORIAN
METHOD:PUBLISH
UID:32666561-3861-4566-b237-636336613662
X-WR-TIMEZONE:Europe/Berlin
X-LIC-LOCATION:Europe/Berlin
BEGIN:VTIMEZONE
TZID:Europe/Berlin
BEGIN:DAYLIGHT
TZOFFSETFROM:+0100
TZOFFSETTO:+0200
TZNAME:CEST
DTSTART:19700329T020000
RRULE:FREQ=YEARLY;BYDAY=-1SU;BYMONTH=3
END:DAYLIGHT
BEGIN:STANDARD
TZOFFSETFROM:+0200
TZOFFSETTO:+0100
TZNAME:CET
DTSTART:19701025T030000
RRULE:FREQ=YEARLY;BYDAY=-1SU;BYMONTH=10
END:STANDARD
END:VTIMEZONE
BEGIN:VEVENT
UID:38643366-3833-4237-b738-346464333139
DTSTAMP:20260421T140149Z
DESCRIPTION:im Klinikum Mittelbaden\, Hub\n \n Veranstaltungsort:\n Kliniku
 m Mittelbaden\, Hub\n Hubstraße 66\n 77833 Ottersweier\n \n Veranstalter:
 \n Ev. Kirchengemeinde Bühlertal\n Hindenburgstr. 23\n 77830 Bühlertal\n T
 elefon: 0 72 23 / 7 24 21\n http://www.evki-5mal.de
DTSTART;TZID=Europe/Berlin:20260525T093000
DTEND;TZID=Europe/Berlin:20260525T103000
LOCATION:Klinikum Mittelbaden\, Hub\n - Hubstraße 66\n - 77833 Ottersweier
SUMMARY:Ökumenischer Gottesdienst mit Pfarrerin Sabine Wendlandt und Bruder
  Michael
X-ALT-DESC;FMTTYPE=text/html:im Klinikum Mittelbaden\, Hub<br /><br />Veran
 staltungsort: <br />Klinikum Mittelbaden\, Hub<br />Hubstraße 66<br />7783
 3 Ottersweier<br /><br />Veranstalter: <br />Ev. Kirchengemeinde Bühlertal
 <br />Hindenburgstr. 23<br />77830 Bühlertal<br />Telefon: 0 72 23 / 7 24 
 21<br />http://www.evki-5mal.de
END:VEVENT
END:VCALENDAR
