BEGIN:VCALENDAR
VERSION:2.0
PRODID:-//evki-5mal.de//NONSGML kigkonsult.se iCalcreator 2.41.92//
CALSCALE:GREGORIAN
METHOD:PUBLISH
UID:35646539-6464-4333-a365-623761373962
X-WR-TIMEZONE:Europe/Berlin
X-LIC-LOCATION:Europe/Berlin
BEGIN:VTIMEZONE
TZID:Europe/Berlin
BEGIN:DAYLIGHT
TZOFFSETFROM:+0100
TZOFFSETTO:+0200
TZNAME:CEST
DTSTART:19700329T020000
RRULE:FREQ=YEARLY;BYDAY=-1SU;BYMONTH=3
END:DAYLIGHT
BEGIN:STANDARD
TZOFFSETFROM:+0200
TZOFFSETTO:+0100
TZNAME:CET
DTSTART:19701025T030000
RRULE:FREQ=YEARLY;BYDAY=-1SU;BYMONTH=10
END:STANDARD
END:VTIMEZONE
BEGIN:VEVENT
UID:66343561-3966-4833-b838-643363633665
DTSTAMP:20260421T121749Z
DESCRIPTION:mit Pfarrerin i.R. Sabine Wendlandt\n \n Veranstaltungsort:\n K
 irchengemeindehaus Hephata\n Mooslandstraße 1\n 77833 Ottersweier\n \n Ver
 anstalter:\n Ev. Kirchengemeinde Bühlertal\n Hindenburgstr. 23\n 77830 Büh
 lertal\n Telefon: 0 72 23 / 7 24 21\n http://www.evki-5mal.de
DTSTART;TZID=Europe/Berlin:20260510T093000
DTEND;TZID=Europe/Berlin:20260510T103000
LOCATION:Kirchengemeindehaus Hephata\n - Mooslandstraße 1\n - 77833 Ottersw
 eier
SUMMARY:Gottesdienst in  Ottersweier
X-ALT-DESC;FMTTYPE=text/html:mit Pfarrerin i.R. Sabine Wendlandt<br /><br /
 >Veranstaltungsort: <br />Kirchengemeindehaus Hephata<br />Mooslandstraße 
 1<br />77833 Ottersweier<br /><br />Veranstalter: <br />Ev. Kirchengemeind
 e Bühlertal<br />Hindenburgstr. 23<br />77830 Bühlertal<br />Telefon: 0 72
  23 / 7 24 21<br />http://www.evki-5mal.de
END:VEVENT
END:VCALENDAR
