BEGIN:VCALENDAR
VERSION:2.0
PRODID:-//evki-5mal.de//NONSGML kigkonsult.se iCalcreator 2.41.92//
CALSCALE:GREGORIAN
METHOD:PUBLISH
UID:38666533-3566-4863-b462-393436656530
X-WR-TIMEZONE:Europe/Berlin
X-LIC-LOCATION:Europe/Berlin
BEGIN:VTIMEZONE
TZID:Europe/Berlin
BEGIN:DAYLIGHT
TZOFFSETFROM:+0100
TZOFFSETTO:+0200
TZNAME:CEST
DTSTART:19700329T020000
RRULE:FREQ=YEARLY;BYDAY=-1SU;BYMONTH=3
END:DAYLIGHT
BEGIN:STANDARD
TZOFFSETFROM:+0200
TZOFFSETTO:+0100
TZNAME:CET
DTSTART:19701025T030000
RRULE:FREQ=YEARLY;BYDAY=-1SU;BYMONTH=10
END:STANDARD
END:VTIMEZONE
BEGIN:VEVENT
UID:64383938-6336-4435-a134-353739383430
DTSTAMP:20260421T134810Z
DESCRIPTION:In einem feierlichen Gottesdienst mit Dekan Christian Link beke
 nnen sich die Konfirmand*innen zu ihrem Glauben.\n \n Veranstaltungsort:\n
  St. Gallus\n Bühlertalstraße 135\n 77815 Bühl\n \n Veranstalter:\n Ev. Ki
 rchengemeinde Bühlertal\n Hindenburgstr. 23\n 77830 Bühlertal\n Telefon: 0
  72 23 / 7 24 21\n http://www.evki-5mal.de
DTSTART;TZID=Europe/Berlin:20260503T100000
DTEND;TZID=Europe/Berlin:20260503T110000
LOCATION:St. Gallus\n - Bühlertalstraße 135\n - 77815 Bühl
SUMMARY:Ein großer Tag für die Gemeinde: Festgottesdienst zur Konfirmation
X-ALT-DESC;FMTTYPE=text/html:In einem feierlichen Gottesdienst mit Dekan Ch
 ristian Link bekennen sich die Konfirmand*innen zu ihrem Glauben.<br /><br
  />Veranstaltungsort: <br />St. Gallus<br />Bühlertalstraße 135<br />77815
  Bühl<br /><br />Veranstalter: <br />Ev. Kirchengemeinde Bühlertal<br />Hi
 ndenburgstr. 23<br />77830 Bühlertal<br />Telefon: 0 72 23 / 7 24 21<br />
 http://www.evki-5mal.de
END:VEVENT
END:VCALENDAR
