BEGIN:VCALENDAR
VERSION:2.0
PRODID:-//evki-5mal.de//NONSGML kigkonsult.se iCalcreator 2.41.92//
CALSCALE:GREGORIAN
METHOD:PUBLISH
UID:30633962-3332-4334-b638-663531643939
X-WR-TIMEZONE:Europe/Berlin
X-LIC-LOCATION:Europe/Berlin
BEGIN:VTIMEZONE
TZID:Europe/Berlin
BEGIN:DAYLIGHT
TZOFFSETFROM:+0100
TZOFFSETTO:+0200
TZNAME:CEST
DTSTART:19700329T020000
RRULE:FREQ=YEARLY;BYDAY=-1SU;BYMONTH=3
END:DAYLIGHT
BEGIN:STANDARD
TZOFFSETFROM:+0200
TZOFFSETTO:+0100
TZNAME:CET
DTSTART:19701025T030000
RRULE:FREQ=YEARLY;BYDAY=-1SU;BYMONTH=10
END:STANDARD
END:VTIMEZONE
BEGIN:VEVENT
UID:35356534-3764-4765-b738-636338306666
DTSTAMP:20260421T122958Z
DESCRIPTION:mit Prädikant Reininger\n \n Veranstaltungsort:\n Kapelle 'Zum 
 Guten Hirten'\n Schwarzwaldhochstraße\n 77815 Bühl\n \n Veranstalter:\n Ev
 . Kirchengemeinde Bühlertal\n Hindenburgstr. 23\n 77830 Bühlertal\n Telefo
 n: 0 72 23 / 7 24 21\n http://www.evki-5mal.de
DTSTART;TZID=Europe/Berlin:20260426T110000
DTEND;TZID=Europe/Berlin:20260426T120000
LOCATION:Kapelle 'Zum Guten Hirten'\n - Schwarzwaldhochstraße\n - 77815 Büh
 l
SUMMARY:Gottesdienst in der Kapelle 'Zum Guten Hirten'
X-ALT-DESC;FMTTYPE=text/html:mit Prädikant Reininger<br /><br />Veranstaltu
 ngsort: <br />Kapelle 'Zum Guten Hirten'<br />Schwarzwaldhochstraße<br />7
 7815 Bühl<br /><br />Veranstalter: <br />Ev. Kirchengemeinde Bühlertal<br 
 />Hindenburgstr. 23<br />77830 Bühlertal<br />Telefon: 0 72 23 / 7 24 21<b
 r />http://www.evki-5mal.de
END:VEVENT
END:VCALENDAR
